BEGIN:VCALENDAR
VERSION:2.0
PRODID:-//Bent Creek Golf - ECPv6.15.18//NONSGML v1.0//EN
CALSCALE:GREGORIAN
METHOD:PUBLISH
X-WR-CALNAME:Bent Creek Golf
X-ORIGINAL-URL:https://www.golfbentcreek.com
X-WR-CALDESC:Events for Bent Creek Golf
REFRESH-INTERVAL;VALUE=DURATION:PT1H
X-Robots-Tag:noindex
X-PUBLISHED-TTL:PT1H
BEGIN:VTIMEZONE
TZID:UTC
BEGIN:STANDARD
TZOFFSETFROM:+0000
TZOFFSETTO:+0000
TZNAME:UTC
DTSTART:20290101T000000
END:STANDARD
END:VTIMEZONE
BEGIN:VEVENT
DTSTART;TZID=UTC:20300506T073000
DTEND;TZID=UTC:20300506T103000
DTSTAMP:20260425T103402
CREATED:20251204T204659Z
LAST-MODIFIED:20251204T204705Z
UID:10000692-1904283000-1904293800@www.golfbentcreek.com
SUMMARY:Westside Senior Men's Golf Association
DESCRIPTION:A Great Organization – Getting Better With Age! \n\n\n\nGentlemen 50 years and older are invited to join one of the finest groups of golfers in Jacksonville. Our Westside Senior Mens Golf Association meets every Monday\, Wednesday\, and Friday at 7:30am.
URL:https://www.golfbentcreek.com/event/westside-senior-mens-golf-association/2030-05-06/
END:VEVENT
BEGIN:VEVENT
DTSTART;TZID=UTC:20300508T073000
DTEND;TZID=UTC:20300508T103000
DTSTAMP:20260425T103402
CREATED:20251204T204659Z
LAST-MODIFIED:20251204T204705Z
UID:10000693-1904455800-1904466600@www.golfbentcreek.com
SUMMARY:Westside Senior Men's Golf Association
DESCRIPTION:A Great Organization – Getting Better With Age! \n\n\n\nGentlemen 50 years and older are invited to join one of the finest groups of golfers in Jacksonville. Our Westside Senior Mens Golf Association meets every Monday\, Wednesday\, and Friday at 7:30am.
URL:https://www.golfbentcreek.com/event/westside-senior-mens-golf-association/2030-05-08/
END:VEVENT
BEGIN:VEVENT
DTSTART;TZID=UTC:20300509T090000
DTEND;TZID=UTC:20300509T130000
DTSTAMP:20260425T103402
CREATED:20251204T204858Z
LAST-MODIFIED:20251204T204901Z
UID:10001014-1904547600-1904562000@www.golfbentcreek.com
SUMMARY:Ladies Golf Association
DESCRIPTION:Our Bent Creek Ladies meet every Thursday morning at 9:00am. Ladies 18 years and older are welcome to come join the fun!
URL:https://www.golfbentcreek.com/event/ladies-golf-association/2030-05-09/
END:VEVENT
BEGIN:VEVENT
DTSTART;TZID=UTC:20300510T073000
DTEND;TZID=UTC:20300510T103000
DTSTAMP:20260425T103402
CREATED:20251204T204659Z
LAST-MODIFIED:20251204T204705Z
UID:10000694-1904628600-1904639400@www.golfbentcreek.com
SUMMARY:Westside Senior Men's Golf Association
DESCRIPTION:A Great Organization – Getting Better With Age! \n\n\n\nGentlemen 50 years and older are invited to join one of the finest groups of golfers in Jacksonville. Our Westside Senior Mens Golf Association meets every Monday\, Wednesday\, and Friday at 7:30am.
URL:https://www.golfbentcreek.com/event/westside-senior-mens-golf-association/2030-05-10/
END:VEVENT
BEGIN:VEVENT
DTSTART;TZID=UTC:20300513T073000
DTEND;TZID=UTC:20300513T103000
DTSTAMP:20260425T103402
CREATED:20251204T204659Z
LAST-MODIFIED:20251204T204705Z
UID:10000695-1904887800-1904898600@www.golfbentcreek.com
SUMMARY:Westside Senior Men's Golf Association
DESCRIPTION:A Great Organization – Getting Better With Age! \n\n\n\nGentlemen 50 years and older are invited to join one of the finest groups of golfers in Jacksonville. Our Westside Senior Mens Golf Association meets every Monday\, Wednesday\, and Friday at 7:30am.
URL:https://www.golfbentcreek.com/event/westside-senior-mens-golf-association/2030-05-13/
END:VEVENT
BEGIN:VEVENT
DTSTART;TZID=UTC:20300515T073000
DTEND;TZID=UTC:20300515T103000
DTSTAMP:20260425T103402
CREATED:20251204T204659Z
LAST-MODIFIED:20251204T204705Z
UID:10000696-1905060600-1905071400@www.golfbentcreek.com
SUMMARY:Westside Senior Men's Golf Association
DESCRIPTION:A Great Organization – Getting Better With Age! \n\n\n\nGentlemen 50 years and older are invited to join one of the finest groups of golfers in Jacksonville. Our Westside Senior Mens Golf Association meets every Monday\, Wednesday\, and Friday at 7:30am.
URL:https://www.golfbentcreek.com/event/westside-senior-mens-golf-association/2030-05-15/
END:VEVENT
BEGIN:VEVENT
DTSTART;TZID=UTC:20300516T090000
DTEND;TZID=UTC:20300516T130000
DTSTAMP:20260425T103402
CREATED:20251204T204858Z
LAST-MODIFIED:20251204T204901Z
UID:10001015-1905152400-1905166800@www.golfbentcreek.com
SUMMARY:Ladies Golf Association
DESCRIPTION:Our Bent Creek Ladies meet every Thursday morning at 9:00am. Ladies 18 years and older are welcome to come join the fun!
URL:https://www.golfbentcreek.com/event/ladies-golf-association/2030-05-16/
END:VEVENT
BEGIN:VEVENT
DTSTART;TZID=UTC:20300517T073000
DTEND;TZID=UTC:20300517T103000
DTSTAMP:20260425T103402
CREATED:20251204T204659Z
LAST-MODIFIED:20251204T204705Z
UID:10000697-1905233400-1905244200@www.golfbentcreek.com
SUMMARY:Westside Senior Men's Golf Association
DESCRIPTION:A Great Organization – Getting Better With Age! \n\n\n\nGentlemen 50 years and older are invited to join one of the finest groups of golfers in Jacksonville. Our Westside Senior Mens Golf Association meets every Monday\, Wednesday\, and Friday at 7:30am.
URL:https://www.golfbentcreek.com/event/westside-senior-mens-golf-association/2030-05-17/
END:VEVENT
BEGIN:VEVENT
DTSTART;TZID=UTC:20300520T073000
DTEND;TZID=UTC:20300520T103000
DTSTAMP:20260425T103402
CREATED:20251204T204659Z
LAST-MODIFIED:20251204T204705Z
UID:10000698-1905492600-1905503400@www.golfbentcreek.com
SUMMARY:Westside Senior Men's Golf Association
DESCRIPTION:A Great Organization – Getting Better With Age! \n\n\n\nGentlemen 50 years and older are invited to join one of the finest groups of golfers in Jacksonville. Our Westside Senior Mens Golf Association meets every Monday\, Wednesday\, and Friday at 7:30am.
URL:https://www.golfbentcreek.com/event/westside-senior-mens-golf-association/2030-05-20/
END:VEVENT
BEGIN:VEVENT
DTSTART;TZID=UTC:20300522T073000
DTEND;TZID=UTC:20300522T103000
DTSTAMP:20260425T103402
CREATED:20251204T204659Z
LAST-MODIFIED:20251204T204705Z
UID:10000699-1905665400-1905676200@www.golfbentcreek.com
SUMMARY:Westside Senior Men's Golf Association
DESCRIPTION:A Great Organization – Getting Better With Age! \n\n\n\nGentlemen 50 years and older are invited to join one of the finest groups of golfers in Jacksonville. Our Westside Senior Mens Golf Association meets every Monday\, Wednesday\, and Friday at 7:30am.
URL:https://www.golfbentcreek.com/event/westside-senior-mens-golf-association/2030-05-22/
END:VEVENT
BEGIN:VEVENT
DTSTART;TZID=UTC:20300523T090000
DTEND;TZID=UTC:20300523T130000
DTSTAMP:20260425T103402
CREATED:20251204T204858Z
LAST-MODIFIED:20251204T204901Z
UID:10001016-1905757200-1905771600@www.golfbentcreek.com
SUMMARY:Ladies Golf Association
DESCRIPTION:Our Bent Creek Ladies meet every Thursday morning at 9:00am. Ladies 18 years and older are welcome to come join the fun!
URL:https://www.golfbentcreek.com/event/ladies-golf-association/2030-05-23/
END:VEVENT
BEGIN:VEVENT
DTSTART;TZID=UTC:20300524T073000
DTEND;TZID=UTC:20300524T103000
DTSTAMP:20260425T103402
CREATED:20251204T204659Z
LAST-MODIFIED:20251204T204705Z
UID:10000700-1905838200-1905849000@www.golfbentcreek.com
SUMMARY:Westside Senior Men's Golf Association
DESCRIPTION:A Great Organization – Getting Better With Age! \n\n\n\nGentlemen 50 years and older are invited to join one of the finest groups of golfers in Jacksonville. Our Westside Senior Mens Golf Association meets every Monday\, Wednesday\, and Friday at 7:30am.
URL:https://www.golfbentcreek.com/event/westside-senior-mens-golf-association/2030-05-24/
END:VEVENT
BEGIN:VEVENT
DTSTART;TZID=UTC:20300527T073000
DTEND;TZID=UTC:20300527T103000
DTSTAMP:20260425T103402
CREATED:20251204T204659Z
LAST-MODIFIED:20251204T204705Z
UID:10000701-1906097400-1906108200@www.golfbentcreek.com
SUMMARY:Westside Senior Men's Golf Association
DESCRIPTION:A Great Organization – Getting Better With Age! \n\n\n\nGentlemen 50 years and older are invited to join one of the finest groups of golfers in Jacksonville. Our Westside Senior Mens Golf Association meets every Monday\, Wednesday\, and Friday at 7:30am.
URL:https://www.golfbentcreek.com/event/westside-senior-mens-golf-association/2030-05-27/
END:VEVENT
BEGIN:VEVENT
DTSTART;TZID=UTC:20300529T073000
DTEND;TZID=UTC:20300529T103000
DTSTAMP:20260425T103402
CREATED:20251204T204659Z
LAST-MODIFIED:20251204T204705Z
UID:10000702-1906270200-1906281000@www.golfbentcreek.com
SUMMARY:Westside Senior Men's Golf Association
DESCRIPTION:A Great Organization – Getting Better With Age! \n\n\n\nGentlemen 50 years and older are invited to join one of the finest groups of golfers in Jacksonville. Our Westside Senior Mens Golf Association meets every Monday\, Wednesday\, and Friday at 7:30am.
URL:https://www.golfbentcreek.com/event/westside-senior-mens-golf-association/2030-05-29/
END:VEVENT
BEGIN:VEVENT
DTSTART;TZID=UTC:20300530T090000
DTEND;TZID=UTC:20300530T130000
DTSTAMP:20260425T103402
CREATED:20251204T204858Z
LAST-MODIFIED:20251204T204901Z
UID:10001017-1906362000-1906376400@www.golfbentcreek.com
SUMMARY:Ladies Golf Association
DESCRIPTION:Our Bent Creek Ladies meet every Thursday morning at 9:00am. Ladies 18 years and older are welcome to come join the fun!
URL:https://www.golfbentcreek.com/event/ladies-golf-association/2030-05-30/
END:VEVENT
BEGIN:VEVENT
DTSTART;TZID=UTC:20300531T073000
DTEND;TZID=UTC:20300531T103000
DTSTAMP:20260425T103402
CREATED:20251204T204659Z
LAST-MODIFIED:20251204T204705Z
UID:10000703-1906443000-1906453800@www.golfbentcreek.com
SUMMARY:Westside Senior Men's Golf Association
DESCRIPTION:A Great Organization – Getting Better With Age! \n\n\n\nGentlemen 50 years and older are invited to join one of the finest groups of golfers in Jacksonville. Our Westside Senior Mens Golf Association meets every Monday\, Wednesday\, and Friday at 7:30am.
URL:https://www.golfbentcreek.com/event/westside-senior-mens-golf-association/2030-05-31/
END:VEVENT
BEGIN:VEVENT
DTSTART;TZID=UTC:20300603T073000
DTEND;TZID=UTC:20300603T103000
DTSTAMP:20260425T103402
CREATED:20251204T204659Z
LAST-MODIFIED:20251204T204705Z
UID:10000704-1906702200-1906713000@www.golfbentcreek.com
SUMMARY:Westside Senior Men's Golf Association
DESCRIPTION:A Great Organization – Getting Better With Age! \n\n\n\nGentlemen 50 years and older are invited to join one of the finest groups of golfers in Jacksonville. Our Westside Senior Mens Golf Association meets every Monday\, Wednesday\, and Friday at 7:30am.
URL:https://www.golfbentcreek.com/event/westside-senior-mens-golf-association/2030-06-03/
END:VEVENT
BEGIN:VEVENT
DTSTART;TZID=UTC:20300605T073000
DTEND;TZID=UTC:20300605T103000
DTSTAMP:20260425T103402
CREATED:20251204T204659Z
LAST-MODIFIED:20251204T204705Z
UID:10000705-1906875000-1906885800@www.golfbentcreek.com
SUMMARY:Westside Senior Men's Golf Association
DESCRIPTION:A Great Organization – Getting Better With Age! \n\n\n\nGentlemen 50 years and older are invited to join one of the finest groups of golfers in Jacksonville. Our Westside Senior Mens Golf Association meets every Monday\, Wednesday\, and Friday at 7:30am.
URL:https://www.golfbentcreek.com/event/westside-senior-mens-golf-association/2030-06-05/
END:VEVENT
BEGIN:VEVENT
DTSTART;TZID=UTC:20300606T090000
DTEND;TZID=UTC:20300606T130000
DTSTAMP:20260425T103402
CREATED:20251204T204858Z
LAST-MODIFIED:20251204T204901Z
UID:10001018-1906966800-1906981200@www.golfbentcreek.com
SUMMARY:Ladies Golf Association
DESCRIPTION:Our Bent Creek Ladies meet every Thursday morning at 9:00am. Ladies 18 years and older are welcome to come join the fun!
URL:https://www.golfbentcreek.com/event/ladies-golf-association/2030-06-06/
END:VEVENT
BEGIN:VEVENT
DTSTART;TZID=UTC:20300607T073000
DTEND;TZID=UTC:20300607T103000
DTSTAMP:20260425T103402
CREATED:20251204T204659Z
LAST-MODIFIED:20251204T204705Z
UID:10000706-1907047800-1907058600@www.golfbentcreek.com
SUMMARY:Westside Senior Men's Golf Association
DESCRIPTION:A Great Organization – Getting Better With Age! \n\n\n\nGentlemen 50 years and older are invited to join one of the finest groups of golfers in Jacksonville. Our Westside Senior Mens Golf Association meets every Monday\, Wednesday\, and Friday at 7:30am.
URL:https://www.golfbentcreek.com/event/westside-senior-mens-golf-association/2030-06-07/
END:VEVENT
BEGIN:VEVENT
DTSTART;TZID=UTC:20300610T073000
DTEND;TZID=UTC:20300610T103000
DTSTAMP:20260425T103402
CREATED:20251204T204659Z
LAST-MODIFIED:20251204T204705Z
UID:10000707-1907307000-1907317800@www.golfbentcreek.com
SUMMARY:Westside Senior Men's Golf Association
DESCRIPTION:A Great Organization – Getting Better With Age! \n\n\n\nGentlemen 50 years and older are invited to join one of the finest groups of golfers in Jacksonville. Our Westside Senior Mens Golf Association meets every Monday\, Wednesday\, and Friday at 7:30am.
URL:https://www.golfbentcreek.com/event/westside-senior-mens-golf-association/2030-06-10/
END:VEVENT
BEGIN:VEVENT
DTSTART;TZID=UTC:20300612T073000
DTEND;TZID=UTC:20300612T103000
DTSTAMP:20260425T103402
CREATED:20251204T204659Z
LAST-MODIFIED:20251204T204705Z
UID:10000708-1907479800-1907490600@www.golfbentcreek.com
SUMMARY:Westside Senior Men's Golf Association
DESCRIPTION:A Great Organization – Getting Better With Age! \n\n\n\nGentlemen 50 years and older are invited to join one of the finest groups of golfers in Jacksonville. Our Westside Senior Mens Golf Association meets every Monday\, Wednesday\, and Friday at 7:30am.
URL:https://www.golfbentcreek.com/event/westside-senior-mens-golf-association/2030-06-12/
END:VEVENT
BEGIN:VEVENT
DTSTART;TZID=UTC:20300613T090000
DTEND;TZID=UTC:20300613T130000
DTSTAMP:20260425T103402
CREATED:20251204T204858Z
LAST-MODIFIED:20251204T204901Z
UID:10001019-1907571600-1907586000@www.golfbentcreek.com
SUMMARY:Ladies Golf Association
DESCRIPTION:Our Bent Creek Ladies meet every Thursday morning at 9:00am. Ladies 18 years and older are welcome to come join the fun!
URL:https://www.golfbentcreek.com/event/ladies-golf-association/2030-06-13/
END:VEVENT
BEGIN:VEVENT
DTSTART;TZID=UTC:20300614T073000
DTEND;TZID=UTC:20300614T103000
DTSTAMP:20260425T103402
CREATED:20251204T204659Z
LAST-MODIFIED:20251204T204705Z
UID:10000709-1907652600-1907663400@www.golfbentcreek.com
SUMMARY:Westside Senior Men's Golf Association
DESCRIPTION:A Great Organization – Getting Better With Age! \n\n\n\nGentlemen 50 years and older are invited to join one of the finest groups of golfers in Jacksonville. Our Westside Senior Mens Golf Association meets every Monday\, Wednesday\, and Friday at 7:30am.
URL:https://www.golfbentcreek.com/event/westside-senior-mens-golf-association/2030-06-14/
END:VEVENT
BEGIN:VEVENT
DTSTART;TZID=UTC:20300617T073000
DTEND;TZID=UTC:20300617T103000
DTSTAMP:20260425T103402
CREATED:20251204T204659Z
LAST-MODIFIED:20251204T204705Z
UID:10000710-1907911800-1907922600@www.golfbentcreek.com
SUMMARY:Westside Senior Men's Golf Association
DESCRIPTION:A Great Organization – Getting Better With Age! \n\n\n\nGentlemen 50 years and older are invited to join one of the finest groups of golfers in Jacksonville. Our Westside Senior Mens Golf Association meets every Monday\, Wednesday\, and Friday at 7:30am.
URL:https://www.golfbentcreek.com/event/westside-senior-mens-golf-association/2030-06-17/
END:VEVENT
BEGIN:VEVENT
DTSTART;TZID=UTC:20300619T073000
DTEND;TZID=UTC:20300619T103000
DTSTAMP:20260425T103402
CREATED:20251204T204659Z
LAST-MODIFIED:20251204T204705Z
UID:10000711-1908084600-1908095400@www.golfbentcreek.com
SUMMARY:Westside Senior Men's Golf Association
DESCRIPTION:A Great Organization – Getting Better With Age! \n\n\n\nGentlemen 50 years and older are invited to join one of the finest groups of golfers in Jacksonville. Our Westside Senior Mens Golf Association meets every Monday\, Wednesday\, and Friday at 7:30am.
URL:https://www.golfbentcreek.com/event/westside-senior-mens-golf-association/2030-06-19/
END:VEVENT
BEGIN:VEVENT
DTSTART;TZID=UTC:20300620T090000
DTEND;TZID=UTC:20300620T130000
DTSTAMP:20260425T103402
CREATED:20251204T204858Z
LAST-MODIFIED:20251204T204901Z
UID:10001020-1908176400-1908190800@www.golfbentcreek.com
SUMMARY:Ladies Golf Association
DESCRIPTION:Our Bent Creek Ladies meet every Thursday morning at 9:00am. Ladies 18 years and older are welcome to come join the fun!
URL:https://www.golfbentcreek.com/event/ladies-golf-association/2030-06-20/
END:VEVENT
BEGIN:VEVENT
DTSTART;TZID=UTC:20300621T073000
DTEND;TZID=UTC:20300621T103000
DTSTAMP:20260425T103402
CREATED:20251204T204659Z
LAST-MODIFIED:20251204T204705Z
UID:10000712-1908257400-1908268200@www.golfbentcreek.com
SUMMARY:Westside Senior Men's Golf Association
DESCRIPTION:A Great Organization – Getting Better With Age! \n\n\n\nGentlemen 50 years and older are invited to join one of the finest groups of golfers in Jacksonville. Our Westside Senior Mens Golf Association meets every Monday\, Wednesday\, and Friday at 7:30am.
URL:https://www.golfbentcreek.com/event/westside-senior-mens-golf-association/2030-06-21/
END:VEVENT
BEGIN:VEVENT
DTSTART;TZID=UTC:20300624T073000
DTEND;TZID=UTC:20300624T103000
DTSTAMP:20260425T103402
CREATED:20251204T204659Z
LAST-MODIFIED:20251204T204705Z
UID:10000713-1908516600-1908527400@www.golfbentcreek.com
SUMMARY:Westside Senior Men's Golf Association
DESCRIPTION:A Great Organization – Getting Better With Age! \n\n\n\nGentlemen 50 years and older are invited to join one of the finest groups of golfers in Jacksonville. Our Westside Senior Mens Golf Association meets every Monday\, Wednesday\, and Friday at 7:30am.
URL:https://www.golfbentcreek.com/event/westside-senior-mens-golf-association/2030-06-24/
END:VEVENT
BEGIN:VEVENT
DTSTART;TZID=UTC:20300626T073000
DTEND;TZID=UTC:20300626T103000
DTSTAMP:20260425T103402
CREATED:20251204T204659Z
LAST-MODIFIED:20251204T204705Z
UID:10000714-1908689400-1908700200@www.golfbentcreek.com
SUMMARY:Westside Senior Men's Golf Association
DESCRIPTION:A Great Organization – Getting Better With Age! \n\n\n\nGentlemen 50 years and older are invited to join one of the finest groups of golfers in Jacksonville. Our Westside Senior Mens Golf Association meets every Monday\, Wednesday\, and Friday at 7:30am.
URL:https://www.golfbentcreek.com/event/westside-senior-mens-golf-association/2030-06-26/
END:VEVENT
END:VCALENDAR